BEGIN:VCALENDAR
VERSION:2.0
PRODID:-//TheLovLeighs - Leigh - ECPv6.15.20//NONSGML v1.0//EN
CALSCALE:GREGORIAN
METHOD:PUBLISH
X-ORIGINAL-URL:https://thelovleighs.es
X-WR-CALDESC:Events for TheLovLeighs - Leigh
REFRESH-INTERVAL;VALUE=DURATION:PT1H
X-Robots-Tag:noindex
X-PUBLISHED-TTL:PT1H
BEGIN:VTIMEZONE
TZID:Europe/Madrid
BEGIN:DAYLIGHT
TZOFFSETFROM:+0100
TZOFFSETTO:+0200
TZNAME:CEST
DTSTART:20220327T010000
END:DAYLIGHT
BEGIN:STANDARD
TZOFFSETFROM:+0200
TZOFFSETTO:+0100
TZNAME:CET
DTSTART:20221030T010000
END:STANDARD
BEGIN:DAYLIGHT
TZOFFSETFROM:+0100
TZOFFSETTO:+0200
TZNAME:CEST
DTSTART:20230326T010000
END:DAYLIGHT
BEGIN:STANDARD
TZOFFSETFROM:+0200
TZOFFSETTO:+0100
TZNAME:CET
DTSTART:20231029T010000
END:STANDARD
BEGIN:DAYLIGHT
TZOFFSETFROM:+0100
TZOFFSETTO:+0200
TZNAME:CEST
DTSTART:20240331T010000
END:DAYLIGHT
BEGIN:STANDARD
TZOFFSETFROM:+0200
TZOFFSETTO:+0100
TZNAME:CET
DTSTART:20241027T010000
END:STANDARD
BEGIN:DAYLIGHT
TZOFFSETFROM:+0100
TZOFFSETTO:+0200
TZNAME:CEST
DTSTART:20250330T010000
END:DAYLIGHT
BEGIN:STANDARD
TZOFFSETFROM:+0200
TZOFFSETTO:+0100
TZNAME:CET
DTSTART:20251026T010000
END:STANDARD
END:VTIMEZONE
BEGIN:VEVENT
DTSTART;TZID=Europe/Madrid:20240207T140000
DTEND;TZID=Europe/Madrid:20240207T170000
DTSTAMP:20260424T132307
CREATED:20240127T103457Z
LAST-MODIFIED:20240127T103457Z
UID:531-1707314400-1707325200@thelovleighs.es
SUMMARY:Singing @ Arianaz Bar
DESCRIPTION:Singing @ Arianaz Bar
URL:https://thelovleighs.es/event/singing-arianaz-bar-2/
LOCATION:Bar Arianaz\, 6\, Calla Escorpio\, Orihuela\, Alicante\, 03189\, Spain
END:VEVENT
BEGIN:VEVENT
DTSTART;TZID=Europe/Madrid:20240204T190000
DTEND;TZID=Europe/Madrid:20240204T220000
DTSTAMP:20260424T132307
CREATED:20240127T104638Z
LAST-MODIFIED:20240127T104638Z
UID:542-1707073200-1707084000@thelovleighs.es
SUMMARY:Singing @ Rumours Bar
DESCRIPTION:Singing @ Rumours Bar
URL:https://thelovleighs.es/event/singing-rumours-bar/
LOCATION:Rumours Sports Bar\, C. Limón\, 19\,\, Orihuela\, Alicante\, 03189\, Spain
END:VEVENT
BEGIN:VEVENT
DTSTART;TZID=Europe/Madrid:20240202T190000
DTEND;TZID=Europe/Madrid:20240202T220000
DTSTAMP:20260424T132307
CREATED:20240122T161224Z
LAST-MODIFIED:20240122T161224Z
UID:505-1706900400-1706911200@thelovleighs.es
SUMMARY:Karaoke @ Pablo´s International Bar & Restaurant
DESCRIPTION:Karaoke @ Pablo´s International Bar & Restaurant
URL:https://thelovleighs.es/event/pablos-international-bar-restaurant-6/
LOCATION:Pablo´s International Bar & Restaurant\, Polígono C-2 P Flamenca Sur\, 1D\, Bajo\, Local 2\, Dehesa de Campoamor\, Alicante\, 03189\, Spain
END:VEVENT
BEGIN:VEVENT
DTSTART;TZID=Europe/Madrid:20240131T140000
DTEND;TZID=Europe/Madrid:20240131T170000
DTSTAMP:20260424T132307
CREATED:20240127T103300Z
LAST-MODIFIED:20240127T103300Z
UID:527-1706709600-1706720400@thelovleighs.es
SUMMARY:Singing @ Arianaz Bar
DESCRIPTION:Singing @ Arianaz Bar
URL:https://thelovleighs.es/event/singing-arianaz-bar/
LOCATION:Bar Arianaz\, 6\, Calla Escorpio\, Orihuela\, Alicante\, 03189\, Spain
END:VEVENT
BEGIN:VEVENT
DTSTART;TZID=Europe/Madrid:20240126T190000
DTEND;TZID=Europe/Madrid:20240126T220000
DTSTAMP:20260424T132307
CREATED:20240122T155054Z
LAST-MODIFIED:20240122T161305Z
UID:497-1706295600-1706306400@thelovleighs.es
SUMMARY:Karaoke @ Pablo´s International Bar & Restaurant
DESCRIPTION:Karaoke @ Pablo´s International Bar & Restaurant
URL:https://thelovleighs.es/event/pablos-international-bar-restaurant-4/
LOCATION:Pablo´s International Bar & Restaurant\, Polígono C-2 P Flamenca Sur\, 1D\, Bajo\, Local 2\, Dehesa de Campoamor\, Alicante\, 03189\, Spain
END:VEVENT
BEGIN:VEVENT
DTSTART;TZID=Europe/Madrid:20231224T130000
DTEND;TZID=Europe/Madrid:20231224T160000
DTSTAMP:20260424T132307
CREATED:20231203T183819Z
LAST-MODIFIED:20231203T183819Z
UID:438-1703422800-1703433600@thelovleighs.es
SUMMARY:Cafe La Luz Lemon Tree Market
DESCRIPTION:Cafe La Luz Lemon Tree Market
URL:https://thelovleighs.es/event/cafe-la-luz-lemon-tree-market-2/
LOCATION:Lemon Cafe La Luz Lemon Tree Market\, Partida el Aljibe\, 87C\, Torrevieja\, Alicante\, Comunidad Valenciana\, 03149\, Spain
END:VEVENT
BEGIN:VEVENT
DTSTART;TZID=Europe/Madrid:20231223T190000
DTEND;TZID=Europe/Madrid:20231223T223000
DTSTAMP:20260424T132307
CREATED:20231218T130909Z
LAST-MODIFIED:20231218T130909Z
UID:492-1703358000-1703370600@thelovleighs.es
SUMMARY:Rumours Sports Bar
DESCRIPTION:Rumours Sports Bar
URL:https://thelovleighs.es/event/rumours-sports-bar-9/
LOCATION:Rumours Sports Bar\, C. Limón\, 19\,\, Orihuela\, Alicante\, 03189\, Spain
END:VEVENT
BEGIN:VEVENT
DTSTART;TZID=Europe/Madrid:20231222T190000
DTEND;TZID=Europe/Madrid:20231222T220000
DTSTAMP:20260424T132307
CREATED:20231203T183044Z
LAST-MODIFIED:20231218T130741Z
UID:425-1703271600-1703282400@thelovleighs.es
SUMMARY:Pablo´s International Bar & Restaurant
DESCRIPTION:Pablo´s International Bar & Restaurant
URL:https://thelovleighs.es/event/pablos-international-bar-restaurant-3/
LOCATION:Pablo´s International Bar & Restaurant\, Polígono C-2 P Flamenca Sur\, 1D\, Bajo\, Local 2\, Dehesa de Campoamor\, Alicante\, 03189\, Spain
END:VEVENT
BEGIN:VEVENT
DTSTART;TZID=Europe/Madrid:20231220T140000
DTEND;TZID=Europe/Madrid:20231220T170000
DTSTAMP:20260424T132307
CREATED:20231203T183953Z
LAST-MODIFIED:20231218T130931Z
UID:441-1703080800-1703091600@thelovleighs.es
SUMMARY:Bar Arianaz
DESCRIPTION:Bar Arianaz
URL:https://thelovleighs.es/event/bar-arianaz-4/
LOCATION:Bar Arianaz\, 6\, Calla Escorpio\, Orihuela\, Alicante\, 03189\, Spain
END:VEVENT
BEGIN:VEVENT
DTSTART;TZID=Europe/Madrid:20231215T200000
DTEND;TZID=Europe/Madrid:20231215T230000
DTSTAMP:20260424T132307
CREATED:20231203T182948Z
LAST-MODIFIED:20231203T182948Z
UID:422-1702670400-1702681200@thelovleighs.es
SUMMARY:Pablo´s International Bar & Restaurant
DESCRIPTION:Pablo´s International Bar & Restaurant
URL:https://thelovleighs.es/event/pablos-international-bar-restaurant-2/
LOCATION:Pablo´s International Bar & Restaurant\, Polígono C-2 P Flamenca Sur\, 1D\, Bajo\, Local 2\, Dehesa de Campoamor\, Alicante\, 03189\, Spain
END:VEVENT
BEGIN:VEVENT
DTSTART;TZID=Europe/Madrid:20231213T140000
DTEND;TZID=Europe/Madrid:20231213T180000
DTSTAMP:20260424T132307
CREATED:20231203T183354Z
LAST-MODIFIED:20231203T183354Z
UID:431-1702476000-1702490400@thelovleighs.es
SUMMARY:Bar Arianaz
DESCRIPTION:Bar Arianaz
URL:https://thelovleighs.es/event/bar-arianaz-3/
LOCATION:Bar Arianaz\, 6\, Calla Escorpio\, Orihuela\, Alicante\, 03189\, Spain
END:VEVENT
BEGIN:VEVENT
DTSTART;TZID=Europe/Madrid:20231210T130000
DTEND;TZID=Europe/Madrid:20231210T160000
DTSTAMP:20260424T132307
CREATED:20231203T183752Z
LAST-MODIFIED:20231203T183752Z
UID:435-1702213200-1702224000@thelovleighs.es
SUMMARY:Cafe La Luz Lemon Tree Market
DESCRIPTION:Cafe La Luz Lemon Tree Market
URL:https://thelovleighs.es/event/cafe-la-luz-lemon-tree-market/
LOCATION:Lemon Cafe La Luz Lemon Tree Market\, Partida el Aljibe\, 87C\, Torrevieja\, Alicante\, Comunidad Valenciana\, 03149\, Spain
END:VEVENT
BEGIN:VEVENT
DTSTART;TZID=Europe/Madrid:20231209T190000
DTEND;TZID=Europe/Madrid:20231209T230000
DTSTAMP:20260424T132307
CREATED:20231203T182106Z
LAST-MODIFIED:20231203T202934Z
UID:411-1702148400-1702162800@thelovleighs.es
SUMMARY:Rumours Sports Bar
DESCRIPTION:Singing At Rumours Sports Bar
URL:https://thelovleighs.es/event/rumours-sports-bar-8/
LOCATION:Rumours Sports Bar\, C. Limón\, 19\,\, Orihuela\, Alicante\, 03189\, Spain
END:VEVENT
BEGIN:VEVENT
DTSTART;TZID=Europe/Madrid:20231208T200000
DTEND;TZID=Europe/Madrid:20231208T230000
DTSTAMP:20260424T132307
CREATED:20231203T182903Z
LAST-MODIFIED:20231203T182903Z
UID:419-1702065600-1702076400@thelovleighs.es
SUMMARY:Pablo´s International Bar & Restaurant
DESCRIPTION:Pablo´s International Bar & Restaurant
URL:https://thelovleighs.es/event/pablos-international-bar-restaurant/
LOCATION:Pablo´s International Bar & Restaurant\, Polígono C-2 P Flamenca Sur\, 1D\, Bajo\, Local 2\, Dehesa de Campoamor\, Alicante\, 03189\, Spain
END:VEVENT
BEGIN:VEVENT
DTSTART;TZID=Europe/Madrid:20231206T140000
DTEND;TZID=Europe/Madrid:20231206T180000
DTSTAMP:20260424T132307
CREATED:20231203T183300Z
LAST-MODIFIED:20231203T183445Z
UID:428-1701871200-1701885600@thelovleighs.es
SUMMARY:Bar Arianaz
DESCRIPTION:Bar Arianaz
URL:https://thelovleighs.es/event/bar-arianaz-2/
LOCATION:Bar Arianaz\, 6\, Calla Escorpio\, Orihuela\, Alicante\, 03189\, Spain
END:VEVENT
BEGIN:VEVENT
DTSTART;TZID=Europe/Madrid:20230930T183000
DTEND;TZID=Europe/Madrid:20230930T230000
DTSTAMP:20260424T132307
CREATED:20230707T233533Z
LAST-MODIFIED:20230707T233533Z
UID:310-1696098600-1696114800@thelovleighs.es
SUMMARY:Rumours Sports Bar
DESCRIPTION:Singing At Rumours Sports Bar
URL:https://thelovleighs.es/event/rumours-sports-bar-7/
LOCATION:Rumours Sports Bar\, C. Limón\, 19\,\, Orihuela\, Alicante\, 03189\, Spain
END:VEVENT
BEGIN:VEVENT
DTSTART;TZID=Europe/Madrid:20230916T183000
DTEND;TZID=Europe/Madrid:20230916T230000
DTSTAMP:20260424T132307
CREATED:20230707T233433Z
LAST-MODIFIED:20230707T233433Z
UID:308-1694889000-1694905200@thelovleighs.es
SUMMARY:Rumours Sports Bar
DESCRIPTION:Singing At Rumours Sports Bar
URL:https://thelovleighs.es/event/rumours-sports-bar-6/
LOCATION:Alicante
END:VEVENT
BEGIN:VEVENT
DTSTART;TZID=Europe/Madrid:20230902T183000
DTEND;TZID=Europe/Madrid:20230902T230000
DTSTAMP:20260424T132307
CREATED:20230707T233309Z
LAST-MODIFIED:20230707T233309Z
UID:306-1693679400-1693695600@thelovleighs.es
SUMMARY:Rumours Sports Bar
DESCRIPTION:Singing At Rumours Sports Bar
URL:https://thelovleighs.es/event/rumours-sports-bar-5/
LOCATION:Rumours Sports Bar\, C. Limón\, 19\,\, Orihuela\, Alicante\, 03189\, Spain
END:VEVENT
BEGIN:VEVENT
DTSTART;TZID=Europe/Madrid:20230819T183000
DTEND;TZID=Europe/Madrid:20230819T230000
DTSTAMP:20260424T132307
CREATED:20230707T233118Z
LAST-MODIFIED:20230707T233118Z
UID:304-1692469800-1692486000@thelovleighs.es
SUMMARY:Rumours Sports Bar
DESCRIPTION:Singing At Rumours Sports Bar
URL:https://thelovleighs.es/event/rumours-sports-bar-4/
LOCATION:Rumours Sports Bar\, C. Limón\, 19\,\, Orihuela\, Alicante\, 03189\, Spain
END:VEVENT
BEGIN:VEVENT
DTSTART;TZID=Europe/Madrid:20230805T183000
DTEND;TZID=Europe/Madrid:20230805T230000
DTSTAMP:20260424T132307
CREATED:20230707T232859Z
LAST-MODIFIED:20230707T232935Z
UID:302-1691260200-1691276400@thelovleighs.es
SUMMARY:Rumours Sports Bar
DESCRIPTION:Singing At Rumours Sports Bar
URL:https://thelovleighs.es/event/rumours-sports-bar-3/
LOCATION:Rumours Sports Bar\, C. Limón\, 19\,\, Orihuela\, Alicante\, 03189\, Spain
END:VEVENT
BEGIN:VEVENT
DTSTART;TZID=Europe/Madrid:20230802T140000
DTEND;TZID=Europe/Madrid:20230802T170000
DTSTAMP:20260424T132307
CREATED:20230729T140729Z
LAST-MODIFIED:20230729T140729Z
UID:384-1690984800-1690995600@thelovleighs.es
SUMMARY:Bar Arianaz
DESCRIPTION:
URL:https://thelovleighs.es/event/bar-arianaz/
LOCATION:Bar Arianaz\, 6\, Calla Escorpio\, Orihuela\, Alicante\, 03189\, Spain
END:VEVENT
BEGIN:VEVENT
DTSTART;TZID=Europe/Madrid:20230722T183000
DTEND;TZID=Europe/Madrid:20230722T230000
DTSTAMP:20260424T132307
CREATED:20230621T154104Z
LAST-MODIFIED:20230707T232601Z
UID:228-1690050600-1690066800@thelovleighs.es
SUMMARY:Rumours Sports Bar
DESCRIPTION:Singing At Rumours Sports Bar
URL:https://thelovleighs.es/event/rumours-sports-bar/
LOCATION:Rumours Sports Bar\, C. Limón\, 19\,\, Orihuela\, Alicante\, 03189\, Spain
END:VEVENT
BEGIN:VEVENT
DTSTART;TZID=Europe/Madrid:20230708T080000
DTEND;TZID=Europe/Madrid:20230708T170000
DTSTAMP:20260424T132307
CREATED:20230707T232530Z
LAST-MODIFIED:20230707T232530Z
UID:300-1688803200-1688835600@thelovleighs.es
SUMMARY:Rumours Sports Bar
DESCRIPTION:Singing At Rumours Sports Bar
URL:https://thelovleighs.es/event/rumours-sports-bar-2/
LOCATION:Rumours Sports Bar\, C. Limón\, 19\,\, Orihuela\, Alicante\, 03189\, Spain
END:VEVENT
END:VCALENDAR